BEGIN:VCALENDAR
VERSION:2.0
PRODID:-//https://urretxu.eus///NONSGML kigkonsult.se iCalcreator 2.10.15//
METHOD:PUBLISH
BEGIN:VEVENT
UID:20260420T075011UTC-7766FfG2eb@https://urretxu.eus/
DTSTAMP:20260420T075011Z
DESCRIPTION:EGUNA: 2-3\, 16-17\, 24\, 31 larunbata eta igandeak\nORDUA: 10:
 30 – 14:30 / 17:00 – 21:30\nHAURRENTZAKO AISIALDI GUNEA\n\nLarunbat eta ig
 andetan\n\nTOKIA: Ederrena pilotalekua (Urretxu)\nANTOLATZAILEA: Urretxuko
  Udala\n https://urretxu.eus/eu/sustapen-soziokulturala/kultura/ekitaldia/
 12841-haurrentzako-aisialdi-gunea/
DTSTART;VALUE=DATE:20190302
LOCATION:Ederrena Pilotalekua (Urretxu) (San Martin Etxetaldea\, 4\, 20700 
 Urretxu\, Gipuzkoa\, Spain)
SUMMARY:Haurrentzako aisialdi gunea
URL:https://urretxu.eus/eu/sustapen-soziokulturala/kultura/ekitaldia/12841-
 haurrentzako-aisialdi-gunea/
END:VEVENT
END:VCALENDAR
