BEGIN:VCALENDAR
VERSION:2.0
PRODID:-//https://urretxu.eus///NONSGML kigkonsult.se iCalcreator 2.10.15//
METHOD:PUBLISH
BEGIN:VEVENT
UID:20260420T061232UTC-2127BcWNDb@https://urretxu.eus/
DTSTAMP:20260420T061232Z
DESCRIPTION:\nHileko asteazken\, ostegun\, ostiral\, larunbat eta igande gu
 ztietanTodos los miércoles\, jueves\, viernes\, sábados y domingos de cada
  mes\n16:30-20:00 asteazkena eta osteguna16:30-20:30 ostirala\, larunbata 
 eta igandea\nGAZTE BIDEAN – NERABEENTZAKO UDAL ZERBITZUAGAZTE BIDEAN – SER
 VICIO MUNICIPAL PARA ADOLESCENTESGazte Bidean – Iparragirre plaza (Urretxu
 )Urretxu eta Zumarragako udalak\n https://urretxu.eus/eu/sustapen-soziokul
 turala/kultura/ekitaldia/12568-gazte-bidean---nerabeentzako-udal-zerbitzua
 /
DTSTART;VALUE=DATE:20190102
LOCATION:Gazte Bidean (Urretxu) (Jauregi Kalea\, 10\, 20700 Urretxu\, Gipuz
 koa\, Spain)
SUMMARY:GAZTE BIDEAN – NERABEENTZAKO UDAL ZERBITZUA
URL:https://urretxu.eus/eu/sustapen-soziokulturala/kultura/ekitaldia/12568-
 gazte-bidean---nerabeentzako-udal-zerbitzua/
END:VEVENT
END:VCALENDAR
