BEGIN:VCALENDAR
VERSION:2.0
PRODID:-//https://urretxu.eus///NONSGML kigkonsult.se iCalcreator 2.10.15//
METHOD:PUBLISH
BEGIN:VEVENT
UID:20260420T074846UTC-40251to9iL@https://urretxu.eus/
DTSTAMP:20260420T074846Z
DESCRIPTION:\n16:00 – 20:00 begiralearekin / 11:00 – 13:00 (begirale gabe)K
 Z GUNEA IKASTAROAK Astelehenetik ostiraleraCURSILLOS KZ GUNEA De lunes a v
 iernesKZ GUNEA – Jauregi 21 (Urretxu)KZ GUNEA\n https://urretxu.eus/eu/sus
 tapen-soziokulturala/kultura/ekitaldia/12533-cursillos-kz-gunea/
DTSTART;VALUE=DATE:20190102
LOCATION:KZGUNEA (Urretxu) (Jauregi Kalea\, 21\, 20700 Urretxu\, Gipuzkoa\,
  Spain)
SUMMARY:CURSILLOS KZ GUNEA
URL:https://urretxu.eus/eu/sustapen-soziokulturala/kultura/ekitaldia/12533-
 cursillos-kz-gunea/
END:VEVENT
END:VCALENDAR
