BEGIN:VCALENDAR
VERSION:2.0
PRODID:-//https://urretxu.eus///NONSGML kigkonsult.se iCalcreator 2.10.15//
METHOD:PUBLISH
BEGIN:VEVENT
UID:20260420T055556UTC-9061eTrjwC@https://urretxu.eus/
DTSTAMP:20260420T055556Z
DESCRIPTION:\n16:00 – 20:00 begiralearekin / 11:00 – 13:00 (begirale gabe)K
 Z GUNEA IKASTAROAK Astelehenetik ostiraleraCURSILLOS KZ GUNEA De lunes a v
 iernesKZ GUNEA – Jauregi 21 (Urretxu)KZ GUNEA\n https://urretxu.eus/eu/sus
 tapen-soziokulturala/kultura/ekitaldia/12532-kz-gunea-ikastaroak/
DTSTART;VALUE=DATE:20190102
LOCATION:KZGUNEA (Urretxu) (Jauregi Kalea\, 21\, 20700 Urretxu\, Gipuzkoa\,
  Spain)
SUMMARY:KZ GUNEA IKASTAROAK
URL:https://urretxu.eus/eu/sustapen-soziokulturala/kultura/ekitaldia/12532-
 kz-gunea-ikastaroak/
END:VEVENT
END:VCALENDAR
