BEGIN:VCALENDAR
VERSION:2.0
PRODID:-//https://urretxu.eus///NONSGML kigkonsult.se iCalcreator 2.10.15//
METHOD:PUBLISH
BEGIN:VEVENT
UID:20260420T041700UTC-1486vVGPMs@https://urretxu.eus/
DTSTAMP:20260420T041700Z
DESCRIPTION:Antolatzaileak: Urola Triatloi Taldea eta Argixaoko Atletak\n31
  astelehena\nSAN SILBESTRE LASTERKETA\n\nIbilbidea: Urretxu Zumarragan zeh
 ar\nIrteera: 16:30\nIrteera eta helmuga: Areizaga – Kalebarren plaza\nPart
 e-hartzaileen adina: 16 urtetik gora\n\n\nIzen-ematea\negunean bertan:15:3
 0 - 16:15\nAreizaga – Kalebarren plazan\n https://urretxu.eus/eu/sustapen-
 soziokulturala/kultura/ekitaldia/12503-san-silbestre-lasterketa/
DTSTART;VALUE=DATE:20181231
LOCATION:Areizaga - Kalebarren plaza (Urretxu) (Areizaga-Kalebarren)
SUMMARY:SAN SILBESTRE LASTERKETA
URL:https://urretxu.eus/eu/sustapen-soziokulturala/kultura/ekitaldia/12503-
 san-silbestre-lasterketa/
END:VEVENT
END:VCALENDAR
