BEGIN:VCALENDAR
VERSION:2.0
PRODID:-//https://urretxu.eus///NONSGML kigkonsult.se iCalcreator 2.10.15//
METHOD:PUBLISH
BEGIN:VEVENT
UID:20260420T093924UTC-5348vVFBWW@https://urretxu.eus/
DTSTAMP:20260420T093924Z
DESCRIPTION:Organiza: Harizpi Eskulan Elkartea\nColabora: ayuntamiento de U
 rretxu\nCursillos: TALLER DE MANUALIDADES HARIZPI DE URRETXU\nCURSILLO DE 
 RESTAURACIÓN DE MUEBLES (nivel de iniciación)\nDel 12 de septiembre al 31 
 de octubre\n\nMonitora: Ana Alvarez de Arcaya\nDías: miércoles\nHorario: 1
 6:30 – 19:00\nLugar: Aizpurunea kultur etxea (Urretxu)\n\n\nInscripciones:
 \nDías: del 9 de julio hasta el 10 de septiembre\nLugar: Aizpurunea kultur
  etxea (Urretxu)\nCuota: 35 euros (material aparte)\nPlazas limitadas (8 m
 ínimo - 15 máximo)\nSe seguirá el orden de inscripción\n https://urretxu.e
 us/eu/sustapen-soziokulturala/kultura/ekitaldia/10535-inscripciones-cursil
 lo-de-restauracion-de-muebles-nivel-de-iniciacion/
DTSTART;VALUE=DATE:20180818
LOCATION:Aizpurunea Kultur Etxea (Urretxu) (Jauregi Kalea\, 19\, 20700 Urre
 txu\, Gipuzkoa\, Spain)
SUMMARY:Inscripciones: Cursillo de Restauración de Muebles (nivel de inicia
 ción)
URL:https://urretxu.eus/eu/sustapen-soziokulturala/kultura/ekitaldia/10535-
 inscripciones-cursillo-de-restauracion-de-muebles-nivel-de-iniciacion/
END:VEVENT
END:VCALENDAR
