BEGIN:VCALENDAR
VERSION:2.0
PRODID:-//https://urretxu.eus///NONSGML kigkonsult.se iCalcreator 2.10.15//
METHOD:PUBLISH
BEGIN:VEVENT
UID:20260424T222929UTC-126385FgJ2@https://urretxu.eus/
DTSTAMP:20260424T222929Z
DESCRIPTION:“UTZI ZURE BEGIAK”\nArte-proiektu honek bi bidaia pertsonal bil
 tzen ditu\, formari dagokionez desberdinak eta semantikari dagokionez berd
 inak: argazkigintza eta pintura. \nInaugurazioa: maiatzak 15\, 18:00\nMaia
 tzaren 31ra arte\nAntolatzailea: Urretxuko Udala https://urretxu.eus/eu/co
 mponent/rseventspro/ekitaldia/20232-june-mendez-eta-jm-mendezen-argazki-et
 a-akuarela-erakusketa/?Itemid=1213
DTSTART:20260531T153000Z
DTEND:20260616T183000Z
LOCATION:Juan de Lizarazu Erakusketa Aretoa (Urretxu) (Labeaga Kalea\, 27\,
  20700 Urretxu\, Gipuzkoa\, Spain)
SUMMARY:JUNE MÉNDEZ eta JM MÉNDEZen ARGAZKI ETA AKUARELA ERAKUSKETA 
URL:https://urretxu.eus/eu/component/rseventspro/ekitaldia/20232-june-mende
 z-eta-jm-mendezen-argazki-eta-akuarela-erakusketa/?Itemid=1213
END:VEVENT
END:VCALENDAR
