BEGIN:VCALENDAR
VERSION:2.0
PRODID:-//https://urretxu.eus///NONSGML kigkonsult.se iCalcreator 2.10.15//
METHOD:PUBLISH
BEGIN:VEVENT
UID:20260425T115437UTC-8361Jvl9D9@https://urretxu.eus/
DTSTAMP:20260425T115437Z
DESCRIPTION:Gipuzkoako 2. Mailako Aizkora kanporaketa – Gizonak\nEguraldi t
 xarraz: Ederrena pilotalekua (Urretxu) https://urretxu.eus/eu/component/rs
 eventspro/ekitaldia/20213-aizkolariak/?Itemid=775
DTSTART:20260503T100000Z
DTEND:20260503T120000Z
LOCATION:Areizaga - Kalebarren plaza (Urretxu) (Areizaga-Kalebarren)
SUMMARY:AIZKOLARIAK
URL:https://urretxu.eus/eu/component/rseventspro/ekitaldia/20213-aizkolaria
 k/?Itemid=775
END:VEVENT
END:VCALENDAR
