BEGIN:VCALENDAR
VERSION:2.0
PRODID:-//https://urretxu.eus///NONSGML kigkonsult.se iCalcreator 2.10.15//
METHOD:PUBLISH
BEGIN:VEVENT
UID:20260423T211511UTC-8800ZgVDKV@https://urretxu.eus/
DTSTAMP:20260423T211511Z
DESCRIPTION:Organiza: Urretxuko Udala https://urretxu.eus/eu/component/rsev
 entspro/ekitaldia/19553-concurso-para-la-eleccion-de-portada-del-programa-
 de-fiestas-de-santa-anastasia-2024/?Itemid=775
DTSTART:20240628T180000Z
DTEND:20240628T190000Z
LOCATION:Aizpurunea Kultur Etxea (Urretxu) (Jauregi Kalea\, 19\, 20700 Urre
 txu\, Gipuzkoa\, Spain)
SUMMARY:CONCURSO PARA LA ELECCIÓN DE PORTADA DEL PROGRAMA DE FIESTAS DE SAN
 TA ANASTASIA 2024
URL:https://urretxu.eus/eu/component/rseventspro/ekitaldia/19553-concurso-p
 ara-la-eleccion-de-portada-del-programa-de-fiestas-de-santa-anastasia-2024
 /?Itemid=775
END:VEVENT
END:VCALENDAR
