BEGIN:VCALENDAR
VERSION:2.0
PRODID:-//https://urretxu.eus///NONSGML kigkonsult.se iCalcreator 2.10.15//
METHOD:PUBLISH
BEGIN:VEVENT
UID:20260422T234834UTC-1536UvP4eD@https://urretxu.eus/
DTSTAMP:20260422T234834Z
DESCRIPTION:Bizitzako azken etapan zaintzei buruzko 3 hitzaldietatik azkena
 \, Olaia Arana Alvarez-en eskutik\nAntolatzailea: Urretxuko Udala  https:/
 /urretxu.eus/eu/component/rseventspro/ekitaldia/19541-zaintzei-buruzko-hit
 zaldia/?Itemid=775
DTSTART:20240620T143000Z
DTEND:20240620T160000Z
LOCATION:Aizpurunea Kultur Etxea (Urretxu) (Jauregi Kalea\, 19\, 20700 Urre
 txu\, Gipuzkoa\, Spain)
SUMMARY:Zaintzei buruzko hitzaldia
URL:https://urretxu.eus/eu/component/rseventspro/ekitaldia/19541-zaintzei-b
 uruzko-hitzaldia/?Itemid=775
END:VEVENT
END:VCALENDAR
