BEGIN:VCALENDAR
VERSION:2.0
PRODID:-//https://urretxu.eus///NONSGML kigkonsult.se iCalcreator 2.10.15//
METHOD:PUBLISH
BEGIN:VEVENT
UID:20260419T180214UTC-0066cNMXuu@https://urretxu.eus/
DTSTAMP:20260419T180214Z
DESCRIPTION: Oinarriak Urretxu eta Zumarragako udalen web orrietan\nANTOLAT
 ZAILEA: Argazkia Elkartea\n\n  https://urretxu.eus/eu/component/rseventspr
 o/ekitaldia/19417-uz-trail-mendi-lasterketako-ii-argazki-lehiaketa/?Itemid
 =775
DTSTART:20240303T080000Z
DTEND:20240303T130000Z
LOCATION:Urretxu eta Zumarraga (Casa de Ipeñarreta\, Iparragirre Kalea\, 20
 \, 20700 Urretxu\, Guipúzcoa\, Spain)
SUMMARY:UZ TRAIL MENDI LASTERKETAKO II. ARGAZKI LEHIAKETA
URL:https://urretxu.eus/eu/component/rseventspro/ekitaldia/19417-uz-trail-m
 endi-lasterketako-ii-argazki-lehiaketa/?Itemid=775
END:VEVENT
END:VCALENDAR
