BEGIN:VCALENDAR
VERSION:2.0
PRODID:-//https://urretxu.eus///NONSGML kigkonsult.se iCalcreator 2.10.15//
METHOD:PUBLISH
BEGIN:VEVENT
UID:20260425T112011UTC-0310zimrFj@https://urretxu.eus/
DTSTAMP:20260425T112011Z
DESCRIPTION:\n\nMaiatzaren 6an\, 17:00etan\, Ederrena pilotalekuan izango d
 en PIRRITX\, PORROTX ETA MARIMOTOTS ikuskizunerako sarrera salmenta.\n\n\n
 Sarrera: 7 €\n\n\nEgunak\, lekuak eta orduak (*)\n\n\napirilak 23 (igandea
 ): Labeaga aretoan\, 11:00 – 14:00\napirilak 27\, 28 (osteguna\, ostirala)
 : Aizpurunea kultur etxean\, 11:30-14:30 eta 16:30-19:30\nmaiatzak 2\, 3\,
  4 eta 5 (asteartetik larunbatera): Aizpurunea kultur etxean\, 11:30-14:30
  eta 16:30-19:30\nmaiatzak 6 (larunbata): Aizpurunea kultur etxean\, 11:00
 -13:00\; eta Ederrenako takilan 16:30 – 17:00\n\n\n* Edo sarrerak agortu a
 rte\nANTOLATZAILEA: Urretxu eta Zumarragako udalak\n https://urretxu.eus/e
 u/component/rseventspro/ekitaldia/18921-pailazoak-sarrera-salmenta/?Itemid
 =775
DTSTART:20230423T090000Z
DTEND:20230506T150000Z
LOCATION:Urretxu (Kalea Iparragirre\, 20W\, 20700 Urretxu\, Gipuzkoa\, Spai
 n)
SUMMARY:PAILAZOAK SARRERA SALMENTA
URL:https://urretxu.eus/eu/component/rseventspro/ekitaldia/18921-pailazoak-
 sarrera-salmenta/?Itemid=775
END:VEVENT
END:VCALENDAR
