BEGIN:VCALENDAR
VERSION:2.0
PRODID:-//https://urretxu.eus///NONSGML kigkonsult.se iCalcreator 2.10.15//
METHOD:PUBLISH
BEGIN:VEVENT
UID:20260421T094406UTC-84212KPPlJ@https://urretxu.eus/
DTSTAMP:20260421T094406Z
DESCRIPTION:ANTOLATZAILEA: Urretxu eta Zumarragako udalak\n\nSarrera: 10€. 
 Salgai takilan\, makina eta online.\nGazte txartelarekin: 7€\, <30 urte <3
 0 min. 5€\n\n\nFeminismoa berpiztu da\, eta berarekin\, sekula entzun ez d
 iren tonaka kontzeptu\, terminu\, berba eta gauza. Txukuntasun pixka bat b
 ehar dugu\, eta kaos informatibo honi irtenbidea emateko GU gaude\, Tessa 
 eta Ainhoa. Zuekin guztiekin\, hausnarketa bat\, ikerketa\, argibideak bil
 atzeko gaude\, bizitzea tokatu zaigun garai zirraragarri honi buruz.\nHeld
 uen bonuen salmenta: Urtarrilaren 16tik aurrera Zumarragako kultur etxeanB
 onuak: 70 € - 9 saio / 35 € - euskerazkoak + dantza / musikaSarrerak: 10€.
  Salgai takilan\, makina eta onlineGazte txartelarekin: 7€ Ordu gaztea: <3
 0 urte <30 min. 5€ https://urretxu.eus/eu/component/rseventspro/ekitaldia/
 18765-me-too-ainhoa-aierbe-teresa-andonegi-euskaraz/?Itemid=1213
DTSTART:20230303T191500Z
DTEND:20230303T203000Z
LOCATION:Zelai Arizti aretoa (Zumarraga) (Legazpi Kalea\, 7\, 20700 Zumarra
 ga\, Gipuzkoa\, Spain)
SUMMARY:ME TOO\, Ainhoa Aierbe & Teresa Andonegi (euskaraz)
URL:https://urretxu.eus/eu/component/rseventspro/ekitaldia/18765-me-too-ain
 hoa-aierbe-teresa-andonegi-euskaraz/?Itemid=1213
END:VEVENT
END:VCALENDAR
