BEGIN:VCALENDAR
VERSION:2.0
PRODID:-//https://urretxu.eus///NONSGML kigkonsult.se iCalcreator 2.10.15//
METHOD:PUBLISH
BEGIN:VEVENT
UID:20260425T010548UTC-7271d68ZCS@https://urretxu.eus/
DTSTAMP:20260425T010548Z
DESCRIPTION:“PICASSO 1973-2023” / TAILLER DE MANUALIDADES INFANTIL (niñas/o
 s a partir de 6 años)\nOrganiza: Urretxuko Udala https://urretxu.eus/eu/co
 mponent/rseventspro/ekitaldia/18760-punto-de-interes-de-la-biblioteca-pint
 ura/?Itemid=1213
DTSTART:20230619T150000Z
DTEND:20230619T170000Z
LOCATION:Urretxuko Liburutegia (Jauregi Kalea\, 21\, 20700 Urretxu\, Gipuzk
 oa\, Spain)
SUMMARY:PUNTO DE INTERÉS DE LA BIBLIOTECA: PINTURA
URL:https://urretxu.eus/eu/component/rseventspro/ekitaldia/18760-punto-de-i
 nteres-de-la-biblioteca-pintura/?Itemid=1213
END:VEVENT
END:VCALENDAR
