BEGIN:VCALENDAR
VERSION:2.0
PRODID:-//https://urretxu.eus///NONSGML kigkonsult.se iCalcreator 2.10.15//
METHOD:PUBLISH
BEGIN:VEVENT
UID:20260425T010450UTC-6125Cxmd4u@https://urretxu.eus/
DTSTAMP:20260425T010450Z
DESCRIPTION:“PICASSO 1973-2023” HAUR ESKULAN-TAILERRA (6 urtetik gorako hau
 rrentzat)\nAntolatzailea: Urretxuko Udala https://urretxu.eus/eu/component
 /rseventspro/ekitaldia/18759-liburutegiko-interesgunea-pintura/?Itemid=121
 3
DTSTART:20230619T150000Z
DTEND:20230619T170000Z
LOCATION:Urretxuko Liburutegia (Jauregi Kalea\, 21\, 20700 Urretxu\, Gipuzk
 oa\, Spain)
SUMMARY:LIBURUTEGIKO INTERESGUNEA: PINTURA
URL:https://urretxu.eus/eu/component/rseventspro/ekitaldia/18759-liburutegi
 ko-interesgunea-pintura/?Itemid=1213
END:VEVENT
END:VCALENDAR
