BEGIN:VCALENDAR
VERSION:2.0
PRODID:-//https://urretxu.eus///NONSGML kigkonsult.se iCalcreator 2.10.15//
METHOD:PUBLISH
BEGIN:VEVENT
UID:20260424T044621UTC-07368MlpT4@https://urretxu.eus/
DTSTAMP:20260424T044621Z
DESCRIPTION:WELCOME TO CHENCHNYA\, David France (EE.UU.\, 107'\, VOSE)\n\nB
 utak 21 Zine Kluba\n\nSarrera: 4€\nBonoa: 40 € https://urretxu.eus/eu/comp
 onent/rseventspro/ekitaldia/17524-zine-klub-saioa-welcome-to-chenchnya/?It
 emid=1213
DTSTART:20220217T193000Z
DTEND:20220217T203000Z
LOCATION:Zelai Arizti aretoa (Zumarraga) (Legazpi Kalea\, 7\, 20700 Zumarra
 ga\, Gipuzkoa\, Spain)
SUMMARY:ZINE KLUB SAIOA 'WELCOME TO CHENCHNYA'
URL:https://urretxu.eus/eu/component/rseventspro/ekitaldia/17524-zine-klub-
 saioa-welcome-to-chenchnya/?Itemid=1213
END:VEVENT
END:VCALENDAR
