BEGIN:VCALENDAR
VERSION:2.0
PRODID:-//https://urretxu.eus///NONSGML kigkonsult.se iCalcreator 2.10.15//
METHOD:PUBLISH
BEGIN:VEVENT
UID:20260424T145813UTC-3427pEVap4@https://urretxu.eus/
DTSTAMP:20260424T145813Z
DESCRIPTION:XV. LORE ETA LANDARE AZOKA\nHauxe da landatzeko momentua\nGogor
 atu lore sariketa ekainaren 12tik 23ra izango dela\nAntolatzailea: Urretxu
 ko udala https://urretxu.eus/eu/component/rseventspro/ekitaldia/17117-xv-l
 ore-eta-landare-azoka/?Itemid=1213
DTSTART:20230507T080000Z
DTEND:20230507T120000Z
LOCATION:Gernikako Arbola plaza (Urretxu) (Gernikako Arbola Plaza\, 20700 U
 rretxu\, Gipuzkoa\, Spain)
SUMMARY:XV. LORE ETA LANDARE AZOKA 
URL:https://urretxu.eus/eu/component/rseventspro/ekitaldia/17117-xv-lore-et
 a-landare-azoka/?Itemid=1213
END:VEVENT
END:VCALENDAR
