BEGIN:VCALENDAR
VERSION:2.0
PRODID:-//https://urretxu.eus///NONSGML kigkonsult.se iCalcreator 2.10.15//
METHOD:PUBLISH
BEGIN:VEVENT
UID:20260421T094602UTC-7995O3MVvA@https://urretxu.eus/
DTSTAMP:20260421T094602Z
DESCRIPTION:Antolatzailea: Goierri KE\nKIROL EKINTZAK\n10 larunbata\, 15:30
 \n'GOIERRI ITZULIA' SUB 23 LEHENDAKARI TXAPELKETA TXIRRINDULARI PROBA\n\nA
 fizionatu Maila\nIrteera: 15:30 - Jose Mari Lasa plaza (Urretxu)\nHelmuga:
  Labeaga kalea  (Urretxu) \n https://urretxu.eus/es/promocion-sociocultura
 l/cultura/evento/3088-goierri-itzulia-sub-23-lehendakari-txapelketa-txirri
 ndulari-proba---afizionatu-maila/
DTSTART:20180310T143000Z
DTEND:20180310T163000Z
LOCATION:Jose Mari Lasa\, Plaza (Urretxu) (Jose Mari Lasa plaza\, Urretxu)
SUMMARY:“Goierri Itzulia” Sub 23 Lehendakari Txapelketa txirrindulari Proba
  – Afizionatu Maila
URL:https://urretxu.eus/es/promocion-sociocultural/cultura/evento/3088-goie
 rri-itzulia-sub-23-lehendakari-txapelketa-txirrindulari-proba---afizionatu
 -maila/
END:VEVENT
END:VCALENDAR
