BEGIN:VCALENDAR
VERSION:2.0
PRODID:-//https://urretxu.eus///NONSGML kigkonsult.se iCalcreator 2.10.15//
METHOD:PUBLISH
BEGIN:VEVENT
UID:20260424T222329UTC-9351XbuKxi@https://urretxu.eus/
DTSTAMP:20260424T222329Z
DESCRIPTION:DURANTE TODA LA SEMANA VISITAS GUIADAS GRATUITAS PARA LOS CENTR
 OS ESCOLARES DE URRETXU-ZUMARRAGA (12-16 mayo\, lunes a viernes). Horario 
 flexible.\nPUERTAS ABIERTAS  ¡Acércate al Museo y te llevarás un pequeño r
 egalo!\nOrganizadores: Urrelur Museoa – Museoen eguna https://urretxu.eus/
 es/promocion-sociocultural/cultura/agenda-cultura/evento/20251-urrelur-cel
 ebra-el-dia-de-los-museos/
DTSTART;VALUE=DATE:20260519
LOCATION:Urrelur. Mineral eta fosil museoa (Urretxu) (Jauregi Kalea\, 19\, 
 20700 Urretxu\, Gipuzkoa\, Spain)
SUMMARY:URRELUR CELEBRA EL DÍA DE LOS MUSEOS
URL:https://urretxu.eus/es/promocion-sociocultural/cultura/agenda-cultura/e
 vento/20251-urrelur-celebra-el-dia-de-los-museos/
END:VEVENT
END:VCALENDAR
