BEGIN:VCALENDAR
VERSION:2.0
PRODID:-//https://urretxu.eus///NONSGML kigkonsult.se iCalcreator 2.10.15//
METHOD:PUBLISH
BEGIN:VEVENT
UID:20260421T095019UTC-7201PwiHUu@https://urretxu.eus/
DTSTAMP:20260421T095019Z
DESCRIPTION:\nLibro: 'ESTUPOR Y TEMBLORES'\, Amélie Nothom.\n\nORGANIZA: Ur
 retxuko Udala https://urretxu.eus/es/promocion-sociocultural/cultura/agend
 a-cultura/evento/20210-club-de-lectura-de-literatura-de-mujeres-del-mundo/
DTSTART:20260430T163000Z
DTEND:20260430T173000Z
LOCATION:Aizpurunea Kultur Etxea (Urretxu) (Jauregi Kalea\, 19\, 20700 Urre
 txu\, Gipuzkoa\, Spain)
SUMMARY:CLUB DE LECTURA DE LITERATURA DE MUJERES DEL MUNDO
URL:https://urretxu.eus/es/promocion-sociocultural/cultura/agenda-cultura/e
 vento/20210-club-de-lectura-de-literatura-de-mujeres-del-mundo/
END:VEVENT
END:VCALENDAR
