BEGIN:VCALENDAR
VERSION:2.0
PRODID:-//https://urretxu.eus///NONSGML kigkonsult.se iCalcreator 2.10.15//
METHOD:PUBLISH
BEGIN:VEVENT
UID:20260421T094605UTC-5713B4ZKaO@https://urretxu.eus/
DTSTAMP:20260421T094605Z
DESCRIPTION:\nCelebrando en este mes dos días especiales\, el 2 de abril el
  Día Internacional del Libro Infantil y Juvenil y el 23 de abril el Día In
 ternacional del Libro.\n\n“LETRA ZAPARRADA” IPUIN-SAIOA\, Alboka eta Strav
 insky\n\nReparto de invitaciones: a partir del 13 de abril en la bibliotec
 a\nEdad: A partir de 6 años\n\nORGANIZA: Urretxuko Udala https://urretxu.e
 us/es/promocion-sociocultural/cultura/agenda-cultura/evento/20209-punto-de
 -interes-liburuak-plazara/
DTSTART:20260428T150000Z
DTEND:20260428T160000Z
LOCATION:Urretxuko Liburutegia (Jauregi Kalea\, 21\, 20700 Urretxu\, Gipuzk
 oa\, Spain)
SUMMARY:PUNTO DE INTERÉS: LIBURUAK PLAZARA
URL:https://urretxu.eus/es/promocion-sociocultural/cultura/agenda-cultura/e
 vento/20209-punto-de-interes-liburuak-plazara/
END:VEVENT
END:VCALENDAR
