BEGIN:VCALENDAR
VERSION:2.0
PRODID:-//https://urretxu.eus///NONSGML kigkonsult.se iCalcreator 2.10.15//
METHOD:PUBLISH
BEGIN:VEVENT
UID:20260421T095019UTC-1998VUJ81f@https://urretxu.eus/
DTSTAMP:20260421T095019Z
DESCRIPTION:Libro: 'CANTOS DE SIRENA'\, Charmian Clift\nORGANIZA: Urretxuko
  Udala\n\n  https://urretxu.eus/es/promocion-sociocultural/cultura/agenda-
 cultura/evento/20180-club-de-lectura-de-literatura-de-mujeres-del-mundo-co
 n-monica-leiva/
DTSTART:20260326T173000Z
DTEND:20260326T183000Z
LOCATION:Aizpurunea Kultur Etxea (Urretxu) (Jauregi Kalea\, 19\, 20700 Urre
 txu\, Gipuzkoa\, Spain)
SUMMARY:CLUB DE LECTURA DE LITERATURA DE MUJERES DEL MUNDO\, con Mónica Lei
 va
URL:https://urretxu.eus/es/promocion-sociocultural/cultura/agenda-cultura/e
 vento/20180-club-de-lectura-de-literatura-de-mujeres-del-mundo-con-monica-
 leiva/
END:VEVENT
END:VCALENDAR
