BEGIN:VCALENDAR
VERSION:2.0
PRODID:-//https://urretxu.eus///NONSGML kigkonsult.se iCalcreator 2.10.15//
METHOD:PUBLISH
BEGIN:VEVENT
UID:20260421T080823UTC-5780KRf1P1@https://urretxu.eus/
DTSTAMP:20260421T080823Z
DESCRIPTION:En las escuelas del pueblo\nOrganiza: Urretxu eta Zumarragako u
 dalak https://urretxu.eus/es/promocion-sociocultural/cultura/agenda-cultur
 a/evento/19787-carnavales-jueves-gordo-reparto-de-bocadillos-y-naranjas-en
 -los-colegios/
DTSTART:20260212T080000Z
DTEND:20260212T110000Z
LOCATION:Urretxuko kaleetan zehar (Iparragirre Kalea\, 20700 Urretxu\, Gipu
 zkoa\, Spain)
SUMMARY:CARNAVALES - JUEVES GORDO: REPARTO DE BOCADILLOS Y NARANJAS EN LOS 
 COLEGIOS
URL:https://urretxu.eus/es/promocion-sociocultural/cultura/agenda-cultura/e
 vento/19787-carnavales-jueves-gordo-reparto-de-bocadillos-y-naranjas-en-lo
 s-colegios/
END:VEVENT
END:VCALENDAR
