BEGIN:VCALENDAR
VERSION:2.0
PRODID:-//https://urretxu.eus///NONSGML kigkonsult.se iCalcreator 2.10.15//
METHOD:PUBLISH
BEGIN:VEVENT
UID:20260420T092056UTC-1890ua8uMK@https://urretxu.eus/
DTSTAMP:20260420T092056Z
DESCRIPTION:FINAL DEL TORNEO DE PELOTA GABON KOPAORGANIZA: Goierri kirol el
 kartea - Pilota https://urretxu.eus/es/promocion-sociocultural/cultura/age
 nda-cultura/evento/19718-torneo-de-pelota-de-navidad/
DTSTART:20250105T090000Z
DTEND:20250105T110000Z
LOCATION:Ederrena Pilotalekua (Urretxu) (San Martin Etxetaldea\, 4\, 20700 
 Urretxu\, Gipuzkoa\, Spain)
SUMMARY:TORNEO DE PELOTA DE NAVIDAD
URL:https://urretxu.eus/es/promocion-sociocultural/cultura/agenda-cultura/e
 vento/19718-torneo-de-pelota-de-navidad/
END:VEVENT
END:VCALENDAR
