BEGIN:VCALENDAR
VERSION:2.0
PRODID:-//https://urretxu.eus///NONSGML kigkonsult.se iCalcreator 2.10.15//
METHOD:PUBLISH
BEGIN:VEVENT
UID:20260424T192530UTC-1042npub6i@https://urretxu.eus/
DTSTAMP:20260424T192530Z
DESCRIPTION:ANTOLATZAILEA: Urretxu eta Zumarragako udalak https://urretxu.e
 us/es/promocion-sociocultural/cultura/agenda-cultura/evento/19702-euskerar
 en-eguneko-mintzodromoa/
DTSTART:20241130T100000Z
DTEND:20241130T110000Z
LOCATION:Udaletxeko Portaloia (Urretxu) (Casa de Ipeñarreta\, Iparragirre K
 alea\, 20\, 20700 Urretxu\, Guipúzcoa\, Zumarraga\, Spain)
SUMMARY:EUSKERAREN EGUNEKO “MINTZODROMOA”
URL:https://urretxu.eus/es/promocion-sociocultural/cultura/agenda-cultura/e
 vento/19702-euskeraren-eguneko-mintzodromoa/
END:VEVENT
END:VCALENDAR
