BEGIN:VCALENDAR
VERSION:2.0
PRODID:-//https://urretxu.eus///NONSGML kigkonsult.se iCalcreator 2.10.15//
METHOD:PUBLISH
BEGIN:VEVENT
UID:20260421T150929UTC-9135vb2XaB@https://urretxu.eus/
DTSTAMP:20260421T150929Z
DESCRIPTION:Eitzako baseliza (Zumarraga)\nOrganiza: Zarraparra elkartea htt
 ps://urretxu.eus/es/promocion-sociocultural/cultura/agenda-cultura/evento/
 19172-concierto-los-retumbes/
DTSTART:20231202T180000Z
DTEND:20231202T193000Z
LOCATION:Eitzako Topalekua (Zumarraga) (Antigua Hiribidea\, 2\, 20700 Zumar
 raga\, Gipuzkoa\, Spain)
SUMMARY:CONCIERTO: “LOS RETUMBES”
URL:https://urretxu.eus/es/promocion-sociocultural/cultura/agenda-cultura/e
 vento/19172-concierto-los-retumbes/
END:VEVENT
END:VCALENDAR
