BEGIN:VCALENDAR
VERSION:2.0
PRODID:-//https://urretxu.eus///NONSGML kigkonsult.se iCalcreator 2.10.15//
METHOD:PUBLISH
BEGIN:VEVENT
UID:20260421T111858UTC-8453C3v1wB@https://urretxu.eus/
DTSTAMP:20260421T111858Z
DESCRIPTION:DÍA: 4 – 22\, de lunes a viernes\nHORA: 11:00 – 13:30\nComo cad
 a año parte de la biblioteca sale a la calle. Terraza literaria delante de
  ella.\nLUGAR: Jauregi kalea (Urretxu)\nORGANIZA: Urretxuko udala\n\n  htt
 ps://urretxu.eus/es/promocion-sociocultural/cultura/agenda-cultura/evento/
 17849-punto-de-interes-verano-biblioparque/
DTSTART:20220704T090000Z
DTEND:20220704T113000Z
LOCATION:Jauregi kalea (Urretxu) (Jauregi Kalea\, 1\, 20700 Urretxu\, Gipuz
 koa\, Spain)
SUMMARY:PUNTO DE INTERÉS: Verano - BIBLIOPARQUE
URL:https://urretxu.eus/es/promocion-sociocultural/cultura/agenda-cultura/e
 vento/17849-punto-de-interes-verano-biblioparque/
END:VEVENT
END:VCALENDAR
