BEGIN:VCALENDAR
VERSION:2.0
PRODID:-//https://urretxu.eus///NONSGML kigkonsult.se iCalcreator 2.10.15//
METHOD:PUBLISH
BEGIN:VEVENT
UID:20260423T160428UTC-8133pjrmVf@https://urretxu.eus/
DTSTAMP:20260423T160428Z
DESCRIPTION:La instancia de solicitud\, según modelo normalizado del Ayunta
 miento de Urretxu\, deberá ser presentada\, debidamente cumplimentada\, en
  el registro del Ayuntamiento entre el 4 de junio de 2017 y el 31 de marzo
  de 2018.\n\nEl objetivo es mantener vivo el recuerdo y el ejemplo del fal
 lecido Xabier Ormazabal e impulsar proyectos montañeros originales y de gr
 an nivel.\n\nInformación completa https://urretxu.eus/es/component/rsevent
 spro/evento/3212-beca-xabier-ormazabal/?Itemid=631
DTSTART;VALUE=DATE:20170604
LOCATION:Urretxuko Udala (Iparragirre Kalea\, 20\, 20700 Urretxu\, Gipuzkoa
 \, Spain)
SUMMARY:Beca Xabier Ormazabal
URL:https://urretxu.eus/es/component/rseventspro/evento/3212-beca-xabier-or
 mazabal/?Itemid=631
END:VEVENT
END:VCALENDAR
