BEGIN:VCALENDAR
VERSION:2.0
PRODID:-//https://urretxu.eus///NONSGML kigkonsult.se iCalcreator 2.10.15//
METHOD:PUBLISH
BEGIN:VEVENT
UID:20260421T054707UTC-5752JNVAlo@https://urretxu.eus/
DTSTAMP:20260421T054707Z
DESCRIPTION:Antolatzailea: Eire taberna\nXAKE TXAPELKETA\n11 igandea\, 16:3
 0\nEIRE BANKOA XIX. XAKE TXAPELKETAREN FINALA\n\nLekua: Eire taberna (Urre
 txu)\n https://urretxu.eus/es/component/rseventspro/evento/3084-eire-banko
 a-xix-xake-txapelketa-finala/?Itemid=631
DTSTART:20180311T153000Z
DTEND:20180311T173000Z
LOCATION:Eire taberna (Urretxu) (Gernikako Arbola Plaza\, 5\, 20700 Urretxu
 \, Gipuzkoa\, Spain)
SUMMARY:Eire-Bankoa XIX. Xake Txapelketa. FINALA
URL:https://urretxu.eus/es/component/rseventspro/evento/3084-eire-bankoa-xi
 x-xake-txapelketa-finala/?Itemid=631
END:VEVENT
END:VCALENDAR
