BEGIN:VCALENDAR
VERSION:2.0
PRODID:-//https://urretxu.eus///NONSGML kigkonsult.se iCalcreator 2.10.15//
METHOD:PUBLISH
BEGIN:VEVENT
UID:20260424T103441UTC-4584NDbJm4@https://urretxu.eus/
DTSTAMP:20260424T103441Z
DESCRIPTION:Antolatzaileak: Urretxu eta Zumarragako udalak\nPINTURA LEHIAKE
 TA\n\nLanen aurkezpenaEpea: urriak 6Lekua: Zelai Arizti kultur etxea (Zuma
 rraga)\n\nInformazioa eta oinarriak\n\nwww.urretxu.eus\nwww.zelaiarizti.eu
 s\n https://urretxu.eus/es/component/rseventspro/evento/2848-pintura-lehia
 keta-lanen-aurkezpena/?Itemid=631
DTSTART;VALUE=DATE:20170301
LOCATION:Zelai Arizti kultur etxea (Zumarraga) (Legazpi Kalea\, 7\, 20700 Z
 umarraga\, Gipuzkoa\, Spain)
SUMMARY:Pintura Lehiaketa - Lanen aurkezpena
URL:https://urretxu.eus/es/component/rseventspro/evento/2848-pintura-lehiak
 eta-lanen-aurkezpena/?Itemid=631
END:VEVENT
END:VCALENDAR
