BEGIN:VCALENDAR
VERSION:2.0
PRODID:-//https://urretxu.eus///NONSGML kigkonsult.se iCalcreator 2.10.15//
METHOD:PUBLISH
BEGIN:VEVENT
UID:20260425T193112UTC-1006g4w95U@https://urretxu.eus/
DTSTAMP:20260425T193112Z
DESCRIPTION:Este es un buen momento para plantar. Además\, al comprar en el
  mercado floral se regalarán rifas para participar en el sorteo de flores 
 y plantas.\nRecordad que los premios florales serán entre el 15 y el 26 de
  junio\n11:00 TALLERES DE MANUALIDADES CON FLORES SECAS\nAntolatzailea: Ur
 retxuko Udala https://urretxu.eus/es/component/rseventspro/evento/20211-20
 -feria-de-flores-y-plantas/?Itemid=855
DTSTART:20260503T070000Z
DTEND:20260503T120000Z
LOCATION:Gernikako Arbola plaza (Urretxu) (Gernikako Arbola Plaza\, 20700 U
 rretxu\, Gipuzkoa\, Spain)
SUMMARY:20 FERIA DE FLORES Y PLANTAS
URL:https://urretxu.eus/es/component/rseventspro/evento/20211-20-feria-de-f
 lores-y-plantas/?Itemid=855
END:VEVENT
END:VCALENDAR
