BEGIN:VCALENDAR
VERSION:2.0
PRODID:-//https://urretxu.eus///NONSGML kigkonsult.se iCalcreator 2.10.15//
METHOD:PUBLISH
BEGIN:VEVENT
UID:20260419T131236UTC-2122eOgv96@https://urretxu.eus/
DTSTAMP:20260419T131236Z
DESCRIPTION:El espectáculo Nueva York en un poeta es aquel encuentro de Lor
 ca con el público en la Residencia de señoritas en el que por primera vez 
 se escucharon esos poemas\, 'carne mía\, alegría mía\, sentimiento mío'. D
 urante una hora\, viajaremos con él de Granada a Nueva York y a la Habana.
  A través del jazz y el son (interpretado en vivo por La Banda) nos sumerg
 iremos en Wall Street - 'llega el oro en ríos de todas las partes de la ti
 erra y\, con él\, llega la muerte' - Harlem - 'el dolor de los negros de s
 er negros en un mundo contrario'\, etc.\nEntradasEn Sala Labeaga - 17:00 -
  5€Frontón Ederrena - 17:00 - 7€Bono para 7 espectáculos- infantil + adult
 o: 30 €- infantil: 20 €BonosA la venta del 16 al 14 de febrero en la casa 
 de cultura Aizpurunea:- Lunes a viernes:11:00 – 13:00 / 17:00 – 19:00- Sáb
 ados: 11:00 – 13:00El 16 de febrero y 16 de Marzo a la venta en la sala La
 beaga el día de la actuación.Más información https://urretxu.eus/es/compon
 ent/rseventspro/evento/19762-lorca-en-nueva-york-alberto-san-juan/?Itemid=
 631
DTSTART:20250404T181500Z
DTEND:20250404T191500Z
LOCATION:Zelai Arizti aretoa (Zumarraga) (Legazpi Kalea\, 7\, 20700 Zumarra
 ga\, Gipuzkoa\, Spain)
SUMMARY:LORCA EN NUEVA YORK - Alberto San Juan
URL:https://urretxu.eus/es/component/rseventspro/evento/19762-lorca-en-nuev
 a-york-alberto-san-juan/?Itemid=631
END:VEVENT
END:VCALENDAR
