BEGIN:VCALENDAR
VERSION:2.0
PRODID:-//https://urretxu.eus///NONSGML kigkonsult.se iCalcreator 2.10.15//
METHOD:PUBLISH
BEGIN:VEVENT
UID:20260423T043531UTC-0865ppipBv@https://urretxu.eus/
DTSTAMP:20260423T043531Z
DESCRIPTION:ORGANIZA: Secundino Esnaola Musika Eskola\n\n\nSi hace mal tiem
 po\, los soportales de 'Euskadi plaza' de Zumarraga.\n\n\n  https://urretx
 u.eus/es/component/rseventspro/evento/18739-concierto-de-navidad-alumnos-d
 e-secundino-esnaola-musika-eskola/?Itemid=631
DTSTART:20221223T170000Z
DTEND:20221223T180000Z
LOCATION:Areizaga - Kalebarren plaza (Urretxu) (Areizaga-Kalebarren)
SUMMARY:CONCIERTO DE NAVIDAD\, alumnos de Secundino Esnaola Musika Eskola
URL:https://urretxu.eus/es/component/rseventspro/evento/18739-concierto-de-
 navidad-alumnos-de-secundino-esnaola-musika-eskola/?Itemid=631
END:VEVENT
END:VCALENDAR
