BEGIN:VCALENDAR
VERSION:2.0
PRODID:-//https://urretxu.eus///NONSGML kigkonsult.se iCalcreator 2.10.15//
METHOD:PUBLISH
BEGIN:VEVENT
UID:20260419T230019UTC-4912ZebkMV@https://urretxu.eus/
DTSTAMP:20260419T230019Z
DESCRIPTION:Hijos del sol\, Majid Majidi (Iran\, 2020\, VOSE).\n https://ur
 retxu.eus/es/component/rseventspro/evento/17270-sesion-cine-club/?Itemid=6
 31
DTSTART:20211119T211500Z
DTEND:20211119T223000Z
LOCATION:Zelai Arizti aretoa (Zumarraga) (Legazpi Kalea\, 7\, 20700 Zumarra
 ga\, Gipuzkoa\, Spain)
SUMMARY:SESIÓN CINE CLUB
URL:https://urretxu.eus/es/component/rseventspro/evento/17270-sesion-cine-c
 lub/?Itemid=631
END:VEVENT
END:VCALENDAR
