BEGIN:VCALENDAR
VERSION:2.0
PRODID:-//https://urretxu.eus///NONSGML kigkonsult.se iCalcreator 2.10.15//
METHOD:PUBLISH
BEGIN:VEVENT
UID:20260421T071010UTC-1434ahLjjd@https://urretxu.eus/
DTSTAMP:20260421T071010Z
DESCRIPTION:€1 zozketa txartela https://urretxu.eus/es/component/rseventspr
 o/evento/16536-zine-txiki-haurrentzako-film-laburrak-5-urte-gehiago/?Itemi
 d=631
DTSTART:20210117T160000Z
DTEND:20210117T170000Z
LOCATION:Labeaga Aretoa (Urretxu) (Labeaga Kalea\, 20\, 20700 Urretxu\, Gip
 uzkoa\, Spain)
SUMMARY:Zine txiki haurrentzako film laburrak (5 urte gehiago)
URL:https://urretxu.eus/es/component/rseventspro/evento/16536-zine-txiki-ha
 urrentzako-film-laburrak-5-urte-gehiago/?Itemid=631
END:VEVENT
END:VCALENDAR
