BEGIN:VCALENDAR
VERSION:2.0
PRODID:-//https://urretxu.eus///NONSGML kigkonsult.se iCalcreator 2.10.15//
METHOD:PUBLISH
BEGIN:VEVENT
UID:20260419T210301UTC-2514TSefcZ@https://urretxu.eus/
DTSTAMP:20260419T210301Z
DESCRIPTION:SUBIDA A IRIMOIrimo mendia (Urretxu)Organiza: Goierri Kirol Elk
 artea https://urretxu.eus/es/component/rseventspro/evento/12530-subida-a-i
 rimo/?Itemid=631
DTSTART;VALUE=DATE:20250101
LOCATION:Irimo mendia (Urretxu) (Zumárraga\, 20700\, Gipuzkoa\, Spain)
SUMMARY:SUBIDA A IRIMO
URL:https://urretxu.eus/es/component/rseventspro/evento/12530-subida-a-irim
 o/?Itemid=631
END:VEVENT
END:VCALENDAR
